View In:
ArcGIS JavaScript
ArcGIS Online Map Viewer
ArcGIS Earth
Service Description: Caption: "Deadwood Fire, Sept. 8, 1959, Black Hills N.F." From report: "Emergency Report on Potential and Existing Flood Hazards and Emergency Remedial Measures for Certain Tributaries of Whitewood Creek, Black Hills National Forest, Deadwood, South Dakota."
Name: Imagery/BHNF20210566
Description: Caption: "Deadwood Fire, Sept. 8, 1959, Black Hills N.F." From report: "Emergency Report on Potential and Existing Flood Hazards and Emergency Remedial Measures for Certain Tributaries of Whitewood Creek, Black Hills National Forest, Deadwood, South Dakota."
Single Fused Map Cache: false
Extent:
XMin: -1.1551087952836955E7
YMin: 5517158.425187817
XMax: -1.1540792723274468E7
YMax: 5529794.237458175
Spatial Reference: 102100
(3857)
LatestVCSWkid(0)
Initial Extent:
XMin: -1.1551087952836955E7
YMin: 5517158.425187817
XMax: -1.1540792723274468E7
YMax: 5529794.237458175
Spatial Reference: 102100
(3857)
LatestVCSWkid(0)
Full Extent:
XMin: -1.1551087952836955E7
YMin: 5517158.425187817
XMax: -1.1540792723274468E7
YMax: 5529794.237458175
Spatial Reference: 102100
(3857)
LatestVCSWkid(0)
Pixel Size X: 2.15923438810559
Pixel Size Y: 2.144935031464642
Band Count: 1
Pixel Type: U16
RasterFunction Infos: {"rasterFunctionInfos": [{
"name": "None",
"description": "",
"help": ""
}]}
Mensuration Capabilities: Basic
Inspection Capabilities:
Has Histograms: true
Has Colormap: false
Has Multi Dimensions : false
Rendering Rule:
Min Scale: 0
Max Scale: 0
Copyright Text: Mike Runge, City of Deadwood
Service Data Type: esriImageServiceDataTypeGeneric
Min Values: 0
Max Values: 65535
Mean Values: 23608.728694004
Standard Deviation Values: 16363.617773776
Object ID Field:
Fields:
None
Default Mosaic Method: Center
Allowed Mosaic Methods:
SortField:
SortValue: null
Mosaic Operator: First
Default Compression Quality: 75
Default Resampling Method: Bilinear
Max Record Count: null
Max Image Height: 4100
Max Image Width: 15000
Max Download Image Count: null
Max Mosaic Image Count: null
Allow Raster Function: true
Allow Copy: true
Allow Analysis: true
Allow Compute TiePoints: false
Supports Statistics: false
Supports Advanced Queries: false
Use StandardizedQueries: true
Raster Type Infos:
Name: Raster Dataset
Description: Supports all ArcGIS Raster Datasets
Help:
Has Raster Attribute Table: false
Edit Fields Info: null
Ownership Based AccessControl For Rasters: null
Child Resources:
Info
Histograms
Statistics
Key Properties
Legend
Raster Function Infos
Supported Operations:
Export Image
Identify
Measure
Compute Histograms
Compute Statistics Histograms
Get Samples
Compute Class Statistics
Query Boundary
Compute Pixel Location
Compute Angles
Validate
Project