{
 "currentVersion": 11.5,
 "serviceDescription": "Caption: \"Deadwood Fire, Sept. 8, 1959, Black Hills N.F.\" From report: \"Emergency Report on Potential and Existing Flood Hazards and Emergency Remedial Measures for Certain Tributaries of Whitewood Creek, Black Hills National Forest, Deadwood, South Dakota.\"",
 "serviceItemId": "8ed8576691364251a50c37649824c088",
 "name": "Imagery/BHNF20210566",
 "description": "Caption: \"Deadwood Fire, Sept. 8, 1959, Black Hills N.F.\" From report: \"Emergency Report on Potential and Existing Flood Hazards and Emergency Remedial Measures for Certain Tributaries of Whitewood Creek, Black Hills National Forest, Deadwood, South Dakota.\"",
 "extent": {
  "xmin": -1.1551087952836955E7,
  "ymin": 5517158.425187817,
  "xmax": -1.1540792723274468E7,
  "ymax": 5529794.237458175,
  "spatialReference": {
   "wkid": 102100,
   "latestWkid": 3857
  }
 },
 "initialExtent": {
  "xmin": -1.1551087952836955E7,
  "ymin": 5517158.425187817,
  "xmax": -1.1540792723274468E7,
  "ymax": 5529794.237458175,
  "spatialReference": {
   "wkid": 102100,
   "latestWkid": 3857
  }
 },
 "fullExtent": {
  "xmin": -1.1551087952836955E7,
  "ymin": 5517158.425187817,
  "xmax": -1.1540792723274468E7,
  "ymax": 5529794.237458175,
  "spatialReference": {
   "wkid": 102100,
   "latestWkid": 3857
  }
 },
 "sortableFields": "",
 "bandCount": 1,
 "pixelType": "U16",
 "minValues": [
  0
 ],
 "maxValues": [
  65535
 ],
 "meanValues": [
  23608.728694004
 ],
 "stdvValues": [
  16363.617773776
 ],
 "serviceProperties": "Center<\/MosaicMethod>First<\/MosaicOperator>true<\/SortAscending><\/LockImageID><\/TileOrderField>0<\/TileOrderBase>0.000000<\/AvgImageSpacingX>0.000000<\/AvgImageSpacingY>0.0<\/ViewPointX>0.0<\/ViewPointY>0.0<\/ViewPointDefShiftX>0.0<\/ViewPointDefShiftY>None<\/CompressionMethod>75<\/CompressionQuality>0.010000<\/CompressionTolerance>Bilinear<\/SamplingMethod><\/ImageServiceProperties><\/ImageServer>",
 "allowedFields": "",
 "hasMultidimensions": false,
 "pixelSizeX": 2.15923438810559,
 "pixelSizeY": 2.144935031464642,
 "meanPixelSize": 2.152084709785116,
 "datasetFormat": "TIFF",
 "uncompressedSize": 56176576,
 "blockWidth": 128,
 "blockHeight": 128,
 "compressionType": "None",
 "bandNames": [
  "Band_1"
 ],
 "allowCopy": true,
 "allowAnalysis": true,
 "itemAccess": false,
 "inspectionCapabilities": "",
 "minPixelSize": 0,
 "maxPixelSize": 0,
 "copyrightText": "Mike Runge, City of Deadwood",
 "serviceDataType": "esriImageServiceDataTypeGeneric",
 "serviceSourceType": "esriImageServiceSourceTypeDataset",
 "objectIdField": "",
 "fields": [],
 "capabilities": "Image,Metadata,Mensuration",
 "defaultMosaicMethod": "Center",
 "allowedMosaicMethods": "",
 "sortField": "",
 "sortValue": null,
 "sortAscending": true,
 "mosaicOperator": "First",
 "defaultCompressionQuality": 75,
 "defaultResamplingMethod": "Bilinear",
 "maxImageHeight": 4100,
 "maxImageWidth": 15000,
 "allowRasterFunction": true,
 "rasterFunctionInfos": [
  {
   "name": "None",
   "description": "",
   "help": ""
  }
 ],
 "rasterTypeInfos": [
  {
   "name": "Raster Dataset",
   "description": "Supports all ArcGIS Raster Datasets",
   "help": ""
  }
 ],
 "mensurationCapabilities": "Basic",
 "hasHistograms": true,
 "hasColormap": false,
 "hasRasterAttributeTable": false,
 "minScale": 0,
 "maxScale": 0,
 "exportTilesAllowed": false,
 "supportsStatistics": false,
 "supportsAdvancedQueries": false,
 "editFieldsInfo": null,
 "ownershipBasedAccessControlForRasters": null,
 "allowComputeTiePoints": false,
 "useStandardizedQueries": true,
 "advancedQueryCapabilities": {
  "useStandardizedQueries": true,
  "supportsStatistics": false,
  "supportsOrderBy": false,
  "supportsDistinct": false,
  "supportsPagination": false
 },
 "spatialReference": {
  "wkid": 102100,
  "latestWkid": 3857
 }
}
